BEGIN:VCALENDAR
VERSION:2.0
PRODID:-//everymanawarrior.com//NONSGML kigkonsult.se iCalcreator 2.30.10//
CALSCALE:GREGORIAN
METHOD:PUBLISH
UID:b148cb86-c7b9-4e01-b4d1-b256cd540483
X-WR-CALDESC:Iron Sharpens Iron is a 1-Day Equipping Conference for Men. Th
 e day will include national keynote speakers\, masculine worship\, 16 diff
 erent equipping workshops led by leaders from all over the country\, and r
 esources specific to men.\n\nAt the end of the day\, men are challenged in
  every area of their life and leave inspired\, challenged and better equip
 ped to lead their families\, churches\, and communities.      You won’t wa
 nt to miss this!
X-WR-RELCALID:2cff4068e5eeb4ce6d464e6fcec12461
X-WR-TIMEZONE:America/Chicago
BEGIN:VTIMEZONE
TZID:America/Chicago
BEGIN:STANDARD
TZNAME:CST
DTSTART:20181104T020000
TZOFFSETFROM:-0500
TZOFFSETTO:-0600
RDATE:20191103T020000
END:STANDARD
BEGIN:DAYLIGHT
TZNAME:CDT
DTSTART:20180311T020000
TZOFFSETFROM:-0600
TZOFFSETTO:-0500
RDATE:20190310T020000
RDATE:20200308T020000
END:DAYLIGHT
END:VTIMEZONE
BEGIN:VEVENT
UID:9f9015ff-146c-42db-9334-0afff8912597
DTSTAMP:20260423T055913Z
DESCRIPTION:Iron Sharpens Iron is a 1-Day Equipping Conference for Men. The
  day will include national keynote speakers\, masculine worship\, 16 diffe
 rent equipping workshops led by leaders from all over the country\, and re
 sources specific to men.\n\nAt the end of the day\, men are challenged in 
 every area of their life and leave inspired\, challenged and better equipp
 ed to lead their families\, churches\, and communities.      You won’t wan
 t to miss this!
DTSTART;TZID=America/Chicago:20190302T080000
DTEND;TZID=America/Chicago:20190302T170000
LOCATION:Bellevue Christian Center  1400 Harvell Dr.  Bellevue\, NE
SUMMARY:2019 Iron Sharpens Iron Men's Equipping Conference Omaha\, NE
END:VEVENT
END:VCALENDAR
